BEGIN:VCALENDAR
VERSION:2.0
PRODID:-//CAIRNS LANGUAGE CENTRE - ECPv4.9.4//NONSGML v1.0//EN
CALSCALE:GREGORIAN
METHOD:PUBLISH
X-WR-CALNAME:CAIRNS LANGUAGE CENTRE
X-ORIGINAL-URL:https://cairnslanguagecentre.com.au
X-WR-CALDESC:Events for CAIRNS LANGUAGE CENTRE
BEGIN:VTIMEZONE
TZID:"UTC"
BEGIN:STANDARD
TZOFFSETFROM:+0000
TZOFFSETTO:+0000
TZNAME:UTC
DTSTART:20200101T000000
END:STANDARD
END:VTIMEZONE
BEGIN:VEVENT
DTSTART;TZID="UTC":20200227T003000
DTEND;TZID="UTC":20200227T125000
DTSTAMP:20200228T205110
CREATED:20180725T012024Z
LAST-MODIFIED:20180725T012024Z
UID:3282-1582763400-1582807800@cairnslanguagecentre.com.au
SUMMARY:Heads Up Game
DESCRIPTION:The fun and hilarious game\, from naming celebrities\, to singing\, to silly accents — guess the word on the card that’s on your head from your friends’ clues before the timer runs out! \n
URL:https://cairnslanguagecentre.com.au/our-event/heads-up-game/2020-02-27/
LOCATION:Cairns\, Cairns\, Australia
END:VEVENT
END:VCALENDAR